BEGIN:VCALENDAR
VERSION:2.0
PRODID:https://fedsoc.org/events/panel-ii-originalism-and-historical-truth
BEGIN:VEVENT
UID:63a7da33c60ab
DTSTART:20020302T140046Z
SEQUENCE:0
TRANSP:OPAQUE
DTEND:20020302T154557Z
LOCATION:127 Wall Street New Haven CT 06511
SUMMARY:Panel II: Originalism and Historical Truth
CLASS:PUBLIC
X-ALT-DESC;FMTTYPE=text/html:Event: Panel II: Originalism and Historical Tr
 uth\n\n Location: 127 Wall Street New Haven CT 06511\n\n
DTSTAMP:20221225T000555Z
END:VEVENT
END:VCALENDAR