BEGIN:VCALENDAR
VERSION:2.0
PRODID:https://fedsoc.org/events/panel-i-law-and-truth-pre-modernism-modern
 ism-and-post-modernism
BEGIN:VEVENT
UID:63a7da399f95c
DTSTART:20020302T000030Z
SEQUENCE:0
TRANSP:OPAQUE
DTEND:20020302T020000Z
LOCATION:127 Wall Street New Haven CT 06511
SUMMARY:Panel I: Law and Truth: Pre-Modernism\, Modernism\, and Post Modern
 ism
CLASS:PUBLIC
X-ALT-DESC;FMTTYPE=text/html:Event: Panel I: Law and Truth: Pre-Modernism\,
  Modernism\, and Post Modernism\n\n Location: 127 Wall Street New Haven CT
  06511\n\n
DTSTAMP:20221225T000601Z
END:VEVENT
END:VCALENDAR