BEGIN:VCALENDAR
VERSION:2.0
PRODID:https://fedsoc.org/events/2002-national-student-symposium
BEGIN:VEVENT
UID:63a7da2e7247f
DTSTART:20020302T000012Z
SEQUENCE:0
TRANSP:OPAQUE
DTEND:20020303T030527Z
LOCATION:127 Wall Street New Haven CT 06511
SUMMARY:2002 National Student Symposium
CLASS:PUBLIC
X-ALT-DESC;FMTTYPE=text/html:Event: 2002 National Student Symposium\n\n Loc
 ation: 127 Wall Street New Haven CT 06511\n\n
DTSTAMP:20221225T000550Z
END:VEVENT
END:VCALENDAR