BEGIN:VCALENDAR
VERSION:2.0
PRODID:https://fedsoc.org/events/courthouse-steps-decision-webinar-fulton-v
 -city-of-philadelphia
BEGIN:VEVENT
UID:63a82b5de11dc
DTSTART:20210621T180000Z
SEQUENCE:0
TRANSP:OPAQUE
DTEND:20210621T190000Z
LOCATION:   
SUMMARY:Courthouse Steps Decision Webinar: Fulton v. City of Philadelphia
CLASS:PUBLIC
X-ALT-DESC;FMTTYPE=text/html:Event: Courthouse Steps Decision Webinar: Fult
 on v. City of Philadelphia\n\n Location:    \n\n
DTSTAMP:20221225T055213Z
END:VEVENT
END:VCALENDAR