BEGIN:VCALENDAR
VERSION:2.0
PRODID:https://fedsoc.org/events/2005-national-student-symposium-banquet
BEGIN:VEVENT
UID:63a7da53600de
DTSTART:20050227T003013Z
SEQUENCE:0
TRANSP:OPAQUE
DTEND:20050227T030026Z
LOCATION:1563 Massachusetts Avenue  Cambridge MA 02138
SUMMARY:2005 National Student Symposium Banquet
CLASS:PUBLIC
X-ALT-DESC;FMTTYPE=text/html:Event: 2005 National Student Symposium Banquet
 \n\n Location: 1563 Massachusetts Avenue  Cambridge MA 02138\n\n
DTSTAMP:20221225T000627Z
END:VEVENT
END:VCALENDAR