BEGIN:VCALENDAR
VERSION:2.0
PRODID:https://fedsoc.org/events/debate-iii-freedom-and-preemption-strategi
 c-considerations-concerning-preemptive-action-in-iraq-and-beyond
BEGIN:VEVENT
UID:63a7da6cb76a1
DTSTART:20050226T220015Z
SEQUENCE:0
TRANSP:OPAQUE
DTEND:20050226T234529Z
LOCATION:1563 Massachusetts Avenue  Cambridge MA 02138
SUMMARY:Debate III: Freedom and Preemption: Strategic Considerations Concer
 ning Preemptive Action in Iraq and Beyond
CLASS:PUBLIC
X-ALT-DESC;FMTTYPE=text/html:Event: Debate III: Freedom and Preemption: Str
 ategic Considerations Concerning Preemptive Action in Iraq and Beyond\n\n 
 Location: 1563 Massachusetts Avenue  Cambridge MA 02138\n\n
DTSTAMP:20221225T000652Z
END:VEVENT
END:VCALENDAR