BEGIN:VCALENDAR
VERSION:2.0
PRODID:https://fedsoc.org/events/debate-ii-freedom-and-intelligence-the-rol
 e-of-international-treaties-and-federal-law-in-interrogation-of-detainees
BEGIN:VEVENT
UID:63a7da67a562f
DTSTART:20050226T203020Z
SEQUENCE:0
TRANSP:OPAQUE
DTEND:20050226T214533Z
LOCATION:1563 Massachusetts Avenue  Cambridge MA 02138
SUMMARY:Debate II: Freedom and Intelligence: The Role of International Trea
 ties and Federal Law in Interrogation of Detainees
CLASS:PUBLIC
X-ALT-DESC;FMTTYPE=text/html:Event: Debate II: Freedom and Intelligence: Th
 e Role of International Treaties and Federal Law in Interrogation of Detai
 nees\n\n Location: 1563 Massachusetts Avenue  Cambridge MA 02138\n\n
DTSTAMP:20221225T000647Z
END:VEVENT
END:VCALENDAR