BEGIN:VCALENDAR
VERSION:2.0
PRODID:https://fedsoc.org/events/panel-iii-the-war-on-terror-civil-libertie
 s-the-court
BEGIN:VEVENT
UID:63a7da71dfd68
DTSTART:20050226T183029Z
SEQUENCE:0
TRANSP:OPAQUE
DTEND:20050226T202500Z
LOCATION:1563 Massachusetts Avenue  Cambridge MA 02138
SUMMARY:Panel III: The War on Terror\, Civil Liberties & the Court
CLASS:PUBLIC
X-ALT-DESC;FMTTYPE=text/html:Event: Panel III: The War on Terror\, Civil Li
 berties & the Court\n\n Location: 1563 Massachusetts Avenue  Cambridge MA 
 02138\n\n
DTSTAMP:20221225T000657Z
END:VEVENT
END:VCALENDAR