BEGIN:VCALENDAR
VERSION:2.0
PRODID:https://fedsoc.org/events/debate-freedom-and-virtue-the-conservative
 -libertarian-divide
BEGIN:VEVENT
UID:63a7da4e4ea56
DTSTART:20050226T160053Z
SEQUENCE:0
TRANSP:OPAQUE
DTEND:20050226T173007Z
LOCATION:1563 Massachusetts Avenue  Cambridge MA 02138
SUMMARY:Debate I: Freedom and Virtue: The Conservative/Libertarian Divide
CLASS:PUBLIC
X-ALT-DESC;FMTTYPE=text/html:Event: Debate I: Freedom and Virtue: The Conse
 rvative/Libertarian Divide\n\n Location: 1563 Massachusetts Avenue  Cambri
 dge MA 02138\n\n
DTSTAMP:20221225T000622Z
END:VEVENT
END:VCALENDAR