BEGIN:VCALENDAR
VERSION:2.0
PRODID:https://fedsoc.org/events/panel-ii-freedom-and-identity-a-limitation
 -or-a-starting-point
BEGIN:VEVENT
UID:63a7da7cd0598
DTSTART:20050226T140033Z
SEQUENCE:0
TRANSP:OPAQUE
DTEND:20050226T154500Z
LOCATION:1563 Massachusetts Avenue  Cambridge MA 02138
SUMMARY:Panel II: Freedom and Identity: A Limitation or a Starting Point?
CLASS:PUBLIC
X-ALT-DESC;FMTTYPE=text/html:Event: Panel II: Freedom and Identity: A Limit
 ation or a Starting Point?\n\n Location: 1563 Massachusetts Avenue  Cambri
 dge MA 02138\n\n
DTSTAMP:20221225T000708Z
END:VEVENT
END:VCALENDAR