BEGIN:VCALENDAR
VERSION:2.0
PRODID:https://fedsoc.org/events/panel-i-what-is-freedom-competing-philosop
 hical-and-jurisprudential-perspectives-on-liberty
BEGIN:VEVENT
UID:63a7da77bfb35
DTSTART:20050226T000031Z
SEQUENCE:0
TRANSP:OPAQUE
DTEND:20050226T020046Z
LOCATION:1563 Massachusetts Avenue  Cambridge MA 02138
SUMMARY:Panel I: What is Freedom?: Competing Philosophical and Jurisprudent
 ial Perspectives on Liberty
CLASS:PUBLIC
X-ALT-DESC;FMTTYPE=text/html:Event: Panel I: What is Freedom?: Competing Ph
 ilosophical and Jurisprudential Perspectives on Liberty\n\n Location: 1563
  Massachusetts Avenue  Cambridge MA 02138\n\n
DTSTAMP:20221225T000703Z
END:VEVENT
END:VCALENDAR