BEGIN:VCALENDAR
VERSION:2.0
PRODID:https://fedsoc.org/events/2005-national-student-symposium
BEGIN:VEVENT
UID:63a7da586d49d
DTSTART:20050226T000049Z
SEQUENCE:0
TRANSP:OPAQUE
DTEND:20050227T030510Z
LOCATION:1563 Massachusetts Avenue  Cambridge MA 02138
SUMMARY:2005 National Student Symposium
CLASS:PUBLIC
X-ALT-DESC;FMTTYPE=text/html:Event: 2005 National Student Symposium\n\n Loc
 ation: 1563 Massachusetts Avenue  Cambridge MA 02138\n\n
DTSTAMP:20221225T000632Z
END:VEVENT
END:VCALENDAR