BEGIN:VCALENDAR
VERSION:2.0
PRODID:https://fedsoc.org/events/private-entities-and-public-concern
BEGIN:VEVENT
UID:63a7bf3526be6
DTSTART:20210722T190000Z
SEQUENCE:0
TRANSP:OPAQUE
DTEND:20210722T200000Z
LOCATION:   
SUMMARY:Private Entities and Public Concern 
CLASS:PUBLIC
X-ALT-DESC;FMTTYPE=text/html:Event: Private Entities and Public Concern \n\
 n Location:    \n\n
DTSTAMP:20221224T221045Z
END:VEVENT
END:VCALENDAR