BEGIN:VCALENDAR
VERSION:2.0
PRODID:https://fedsoc.org/events/tech-giants-antitrust-and-public-discourse
BEGIN:VEVENT
UID:63a968fa4658f
DTSTART:20210701T170000Z
SEQUENCE:0
TRANSP:OPAQUE
DTEND:20210701T180000Z
LOCATION:   
SUMMARY:Tech Giants\, Antitrust\, and Public Discourse 
CLASS:PUBLIC
X-ALT-DESC;FMTTYPE=text/html:Event: Tech Giants\, Antitrust\, and Public Di
 scourse \n\n Location:    \n\n
DTSTAMP:20221226T042722Z
END:VEVENT
END:VCALENDAR