BEGIN:VCALENDAR
VERSION:2.0
PRODID:https://fedsoc.org/events/litigation-update-vitolo-v-guzman
BEGIN:VEVENT
UID:63a9a568a8f45
DTSTART:20210610T200000Z
SEQUENCE:0
TRANSP:OPAQUE
DTEND:20210610T210000Z
LOCATION:   
SUMMARY:Litigation Update: Vitolo v. Guzman 
CLASS:PUBLIC
X-ALT-DESC;FMTTYPE=text/html:Event: Litigation Update: Vitolo v. Guzman \n\
 n Location:    \n\n
DTSTAMP:20221226T084512Z
END:VEVENT
END:VCALENDAR