BEGIN:VCALENDAR
VERSION:2.0
PRODID:https://fedsoc.org/events/limiting-the-right-to-exclude-common-carri
 er-and-market-dominance
BEGIN:VEVENT
UID:63a968eb60167
DTSTART:20210625T170000Z
SEQUENCE:0
TRANSP:OPAQUE
DTEND:20210625T180000Z
LOCATION:   
SUMMARY:Limiting the Right to Exclude: Common Carrier and Market Dominance
CLASS:PUBLIC
X-ALT-DESC;FMTTYPE=text/html:Event: Limiting the Right to Exclude: Common C
 arrier and Market Dominance\n\n Location:    \n\n
DTSTAMP:20221226T042707Z
END:VEVENT
END:VCALENDAR