BEGIN:VCALENDAR
VERSION:2.0
PRODID:https://fedsoc.org/events/free-speech-and-compelled-speech-first-ame
 ndment-challenges-to-a-marketplace-of-ideas
BEGIN:VEVENT
UID:63a81e2793d95
DTSTART:20210611T180000Z
SEQUENCE:0
TRANSP:OPAQUE
DTEND:20210611T190000Z
LOCATION:   
SUMMARY:Free Speech and Compelled Speech: First Amendment Challenges to a M
 arketplace of Ideas 
CLASS:PUBLIC
X-ALT-DESC;FMTTYPE=text/html:Event: Free Speech and Compelled Speech: First
  Amendment Challenges to a Marketplace of Ideas \n\n Location:    \n\n
DTSTAMP:20221225T045551Z
END:VEVENT
END:VCALENDAR