BEGIN:VCALENDAR
VERSION:2.0
PRODID:https://fedsoc.org/events/a-discussion-students-for-fair-admissions-
 v-president-and-fellows-of-harvard-college
BEGIN:VEVENT
UID:63a9a531c8cc0
DTSTART:20210526T190000Z
SEQUENCE:0
TRANSP:OPAQUE
DTEND:20210526T200000Z
LOCATION:   
SUMMARY:A Discussion: Students for Fair Admissions v. President and Fellows
  of Harvard College
CLASS:PUBLIC
X-ALT-DESC;FMTTYPE=text/html:Event: A Discussion: Students for Fair Admissi
 ons v. President and Fellows of Harvard College\n\n Location:    \n\n
DTSTAMP:20221226T084417Z
END:VEVENT
END:VCALENDAR