BEGIN:VCALENDAR
VERSION:2.0
PRODID:https://fedsoc.org/events/artificial-intelligence-and-bias
BEGIN:VEVENT
UID:63a7d300bc850
DTSTART:20210504T160000Z
SEQUENCE:0
TRANSP:OPAQUE
DTEND:20210504T170000Z
LOCATION:   
SUMMARY:Artificial Intelligence and Bias 
CLASS:PUBLIC
X-ALT-DESC;FMTTYPE=text/html:Event: Artificial Intelligence and Bias \n\n L
 ocation:    \n\n
DTSTAMP:20221224T233512Z
END:VEVENT
END:VCALENDAR