BEGIN:VCALENDAR
VERSION:2.0
PRODID:https://fedsoc.org/events/courthouse-steps-oral-argument-yellen-v-co
 nfederated-tribes-of-the-chehalis-reservation
BEGIN:VEVENT
UID:608a506b4dfaa
DTSTART:20210420T193000Z
SEQUENCE:0
TRANSP:OPAQUE
DTEND:20210420T203000Z
LOCATION:   
SUMMARY:Courthouse Steps Oral Argument Teleforum: Yellen v. Confederated Tr
 ibes of the Chehalis Reservation 
CLASS:PUBLIC
X-ALT-DESC;FMTTYPE=text/html:Event: Courthouse Steps Oral Argument Teleforu
 m: Yellen v. Confederated Tribes of the Chehalis Reservation \n\n Location
 :    \n\n
DTSTAMP:20210429T022131Z
END:VEVENT
END:VCALENDAR