BEGIN:VCALENDAR
VERSION:2.0
PRODID:https://fedsoc.org/events/litigation-update-coalition-for-thomas-jef
 ferson-high-v-fairfax-county-school-board
BEGIN:VEVENT
UID:60d5ac6038d04
DTSTART:20210429T193000Z
SEQUENCE:0
TRANSP:OPAQUE
DTEND:20210429T203000Z
LOCATION:   
SUMMARY:Litigation Update: Coalition for Thomas Jefferson High v. Fairfax C
 ounty School Board 
CLASS:PUBLIC
X-ALT-DESC;FMTTYPE=text/html:Event: Litigation Update: Coalition for Thomas
  Jefferson High v. Fairfax County School Board \n\n Location:    \n\n
DTSTAMP:20210625T061352Z
END:VEVENT
END:VCALENDAR