BEGIN:VCALENDAR
VERSION:2.0
PRODID:https://fedsoc.org/events/legal-issues-for-commercial-drones-privacy
 -property-rights-and-federalism
BEGIN:VEVENT
UID:608a505f1df14
DTSTART:20210420T160000Z
SEQUENCE:0
TRANSP:OPAQUE
DTEND:20210420T170000Z
LOCATION:   
SUMMARY:Deep Dive Episode 174 – Legal Issues for Commercial Drones: Priva
 cy\, Property Rights\, and Federalism
CLASS:PUBLIC
X-ALT-DESC;FMTTYPE=text/html:Event: Deep Dive Episode 174 – Legal Issues 
 for Commercial Drones: Privacy\, Property Rights\, and Federalism\n\n Loca
 tion:    \n\n
DTSTAMP:20210429T022119Z
END:VEVENT
END:VCALENDAR