BEGIN:VCALENDAR
VERSION:2.0
PRODID:https://fedsoc.org/events/is-scalia-s-originalism-past-its-time
BEGIN:VEVENT
UID:60bb990e1dc42
DTSTART:20210413T200033Z
SEQUENCE:0
TRANSP:OPAQUE
DTEND:20210413T210038Z
LOCATION:Virtual Arlington VA 22201
SUMMARY:Is Scalia's Originalism Past Its Time?
CLASS:PUBLIC
X-ALT-DESC;FMTTYPE=text/html:Event: Is Scalia's Originalism Past Its Time?\
 n\n Location: Virtual Arlington VA 22201\n\n
DTSTAMP:20210605T113230Z
END:VEVENT
END:VCALENDAR