BEGIN:VCALENDAR
VERSION:2.0
PRODID:https://fedsoc.org/events/breaking-the-court-or-saving-democracy-a-d
 ebate-on-court-packing
BEGIN:VEVENT
UID:608a505b2fd43
DTSTART:20210420T160000Z
SEQUENCE:0
TRANSP:OPAQUE
DTEND:20210420T170000Z
LOCATION:Zoom Cambridge MA 02138
SUMMARY:Breaking the Court or Saving Democracy? A Debate on Court Packing
CLASS:PUBLIC
X-ALT-DESC;FMTTYPE=text/html:Event: Breaking the Court or Saving Democracy?
  A Debate on Court Packing\n\n Location: Zoom Cambridge MA 02138\n\n
DTSTAMP:20210429T022115Z
END:VEVENT
END:VCALENDAR