BEGIN:VCALENDAR
VERSION:2.0
PRODID:https://fedsoc.org/events/seventh-annual-texas-chapters-conference
BEGIN:VEVENT
UID:63a81ee5af030
DTSTART:20210917T220000Z
SEQUENCE:0
TRANSP:OPAQUE
DTEND:20210918T230000Z
LOCATION:2943 SMU Boulevard Dallas TX 75205
SUMMARY:Seventh Annual Texas Chapters Conference
CLASS:PUBLIC
X-ALT-DESC;FMTTYPE=text/html:Event: Seventh Annual Texas Chapters Conferenc
 e\n\n Location: 2943 SMU Boulevard Dallas TX 75205\n\n
DTSTAMP:20221225T045901Z
END:VEVENT
END:VCALENDAR