BEGIN:VCALENDAR
VERSION:2.0
PRODID:https://fedsoc.org/events/1-amendment-2-amendment-3d-printed-guns
BEGIN:VEVENT
UID:608a506380b7d
DTSTART:20210420T160041Z
SEQUENCE:0
TRANSP:OPAQUE
DTEND:20210420T170047Z
LOCATION:Virtual Washington DC 20016
SUMMARY:1 Amendment\, 2 Amendment\, 3D Printed Guns
CLASS:PUBLIC
X-ALT-DESC;FMTTYPE=text/html:Event: 1 Amendment\, 2 Amendment\, 3D Printed 
 Guns\n\n Location: Virtual Washington DC 20016\n\n
DTSTAMP:20210429T022123Z
END:VEVENT
END:VCALENDAR