BEGIN:VCALENDAR
VERSION:2.0
PRODID:https://fedsoc.org/events/book-review-takeover-how-a-conservative-st
 udent-club-captured-the-supreme-court
BEGIN:VEVENT
UID:608a506ee6032
DTSTART:20210421T160000Z
SEQUENCE:0
TRANSP:OPAQUE
DTEND:20210421T170000Z
LOCATION:   
SUMMARY:Book Review: Takeover: How a Conservative Student Club Captured the
  Supreme Court
CLASS:PUBLIC
X-ALT-DESC;FMTTYPE=text/html:Event: Book Review: Takeover: How a Conservati
 ve Student Club Captured the Supreme Court\n\n Location:    \n\n
DTSTAMP:20210429T022134Z
END:VEVENT
END:VCALENDAR