BEGIN:VCALENDAR
VERSION:2.0
PRODID:https://fedsoc.org/events/the-second-founding-originalism-and-the-fo
 urteenth-amendment-8
BEGIN:VEVENT
UID:60bb9929dece7
DTSTART:20210412T170000Z
SEQUENCE:0
TRANSP:OPAQUE
DTEND:20210412T180000Z
LOCATION:2516 Cantrell Road Little Rock AR 72202
SUMMARY:The Second Founding: Originalism and the Fourteenth Amendment
CLASS:PUBLIC
X-ALT-DESC;FMTTYPE=text/html:Event: The Second Founding: Originalism and th
 e Fourteenth Amendment\n\n Location: 2516 Cantrell Road Little Rock AR 722
 02\n\n
DTSTAMP:20210605T113257Z
END:VEVENT
END:VCALENDAR