BEGIN:VCALENDAR
VERSION:2.0
PRODID:https://fedsoc.org/events/courthouse-steps-decision-webinar-fcc-v-pr
 ometheus-radio-project
BEGIN:VEVENT
UID:60e237c287823
DTSTART:20210409T160000Z
SEQUENCE:0
TRANSP:OPAQUE
DTEND:20210409T170000Z
LOCATION:   
SUMMARY:Courthouse Steps Decision Webinar: FCC v. Prometheus Radio Project
CLASS:PUBLIC
X-ALT-DESC;FMTTYPE=text/html:Event: Courthouse Steps Decision Webinar: FCC 
 v. Prometheus Radio Project\n\n Location:    \n\n
DTSTAMP:20210704T183546Z
END:VEVENT
END:VCALENDAR