BEGIN:VCALENDAR
VERSION:2.0
PRODID:https://fedsoc.org/events/courthouse-steps-decision-teleforum-florid
 a-v-georgia
BEGIN:VEVENT
UID:6087e4f65a8e2
DTSTART:20210412T180000Z
SEQUENCE:0
TRANSP:OPAQUE
DTEND:20210412T190000Z
LOCATION:   
SUMMARY:Courthouse Steps Decision Teleforum: Florida v. Georgia
CLASS:PUBLIC
X-ALT-DESC;FMTTYPE=text/html:Event: Courthouse Steps Decision Teleforum: Fl
 orida v. Georgia\n\n Location:    \n\n
DTSTAMP:20210427T061830Z
END:VEVENT
END:VCALENDAR