BEGIN:VCALENDAR
VERSION:2.0
PRODID:https://fedsoc.org/events/courthouse-steps-oral-argument-sanchez-v-m
 ayorkas
BEGIN:VEVENT
UID:608a506812033
DTSTART:20210420T180000Z
SEQUENCE:0
TRANSP:OPAQUE
DTEND:20210420T190000Z
LOCATION:   
SUMMARY:Courthouse Steps Oral Argument Teleforum: Sanchez v. Mayorkas 
CLASS:PUBLIC
X-ALT-DESC;FMTTYPE=text/html:Event: Courthouse Steps Oral Argument Teleforu
 m: Sanchez v. Mayorkas \n\n Location:    \n\n
DTSTAMP:20210429T022128Z
END:VEVENT
END:VCALENDAR