BEGIN:VCALENDAR
VERSION:2.0
PRODID:https://fedsoc.org/events/feddie-night-fights-common-good-originalis
 m
BEGIN:VEVENT
UID:63a8031e549e5
DTSTART:20210413T000046Z
SEQUENCE:0
TRANSP:OPAQUE
DTEND:20210413T013000Z
LOCATION:   
SUMMARY:Feddie Night Fights: Common Good Originalism?
CLASS:PUBLIC
X-ALT-DESC;FMTTYPE=text/html:Event: Feddie Night Fights: Common Good Origin
 alism?\n\n Location:    \n\n
DTSTAMP:20221225T030030Z
END:VEVENT
END:VCALENDAR