BEGIN:VCALENDAR
VERSION:2.0
PRODID:https://fedsoc.org/events/the-second-founding-originalism-and-the-fo
 urteenth-amendment-7
BEGIN:VEVENT
UID:60bb98f1b3266
DTSTART:20210414T160052Z
SEQUENCE:0
TRANSP:OPAQUE
DTEND:20210414T170058Z
LOCATION:Virtual Richmond VA 23173
SUMMARY:The Second Founding: Originalism and the Fourteenth Amendment
CLASS:PUBLIC
X-ALT-DESC;FMTTYPE=text/html:Event: The Second Founding: Originalism and th
 e Fourteenth Amendment\n\n Location: Virtual Richmond VA 23173\n\n
DTSTAMP:20210605T113201Z
END:VEVENT
END:VCALENDAR