BEGIN:VCALENDAR
VERSION:2.0
PRODID:https://fedsoc.org/events/resolved-that-congress-should-pass-h-r-1
BEGIN:VEVENT
UID:63a9de7888295
DTSTART:20210408T180000Z
SEQUENCE:0
TRANSP:OPAQUE
DTEND:20210408T190000Z
LOCATION:   
SUMMARY:Resolved:  That Congress Should Pass H.R. 1\, the For the People Ac
 t
CLASS:PUBLIC
X-ALT-DESC;FMTTYPE=text/html:Event: Resolved:  That Congress Should Pass H.
 R. 1\, the For the People Act\n\n Location:    \n\n
DTSTAMP:20221226T124840Z
END:VEVENT
END:VCALENDAR