BEGIN:VCALENDAR
VERSION:2.0
PRODID:https://fedsoc.org/events/the-state-of-healthcare-policy-from-covid-
 19-to-medicare-for-all
BEGIN:VEVENT
UID:63a9843595094
DTSTART:20210416T170000Z
SEQUENCE:0
TRANSP:OPAQUE
DTEND:20210416T180000Z
LOCATION:N/A Washington DC 20001
SUMMARY:The State of Healthcare Policy: from COVID-19 to Medicare for All
CLASS:PUBLIC
X-ALT-DESC;FMTTYPE=text/html:Event: The State of Healthcare Policy: from CO
 VID-19 to Medicare for All\n\n Location: N/A Washington DC 20001\n\n
DTSTAMP:20221226T062333Z
END:VEVENT
END:VCALENDAR