BEGIN:VCALENDAR
VERSION:2.0
PRODID:https://fedsoc.org/events/the-second-founding-originalism-and-the-fo
 urteenth-amendment-5
BEGIN:VEVENT
UID:60bb98be2f7a4
DTSTART:20210618T170000Z
SEQUENCE:0
TRANSP:OPAQUE
DTEND:20210618T180000Z
LOCATION:201 NW Fourth Street\, Second Floor Evansville IN 47708
SUMMARY:The Second Founding: Originalism and the Fourteenth Amendment
CLASS:PUBLIC
X-ALT-DESC;FMTTYPE=text/html:Event: The Second Founding: Originalism and th
 e Fourteenth Amendment\n\n Location: 201 NW Fourth Street\, Second Floor E
 vansville IN 47708\n\n
DTSTAMP:20210605T113110Z
END:VEVENT
END:VCALENDAR