BEGIN:VCALENDAR
VERSION:2.0
PRODID:https://fedsoc.org/events/ict-supply-chain-security-a-panel-discussi
 on
BEGIN:VEVENT
UID:60e237de65acc
DTSTART:20210323T170000Z
SEQUENCE:0
TRANSP:OPAQUE
DTEND:20210323T180000Z
LOCATION:   
SUMMARY:ICT Supply Chain Security: A Panel Discussion
CLASS:PUBLIC
X-ALT-DESC;FMTTYPE=text/html:Event: ICT Supply Chain Security: A Panel Disc
 ussion\n\n Location:    \n\n
DTSTAMP:20210704T183614Z
END:VEVENT
END:VCALENDAR