BEGIN:VCALENDAR
VERSION:2.0
PRODID:https://fedsoc.org/events/social-media-free-speech-and-section-230
BEGIN:VEVENT
UID:63a81e56f0576
DTSTART:20210318T160000Z
SEQUENCE:0
TRANSP:OPAQUE
DTEND:20210318T170000Z
LOCATION:   
SUMMARY:Debate: Social Media\, Free Speech\, and Section 230
CLASS:PUBLIC
X-ALT-DESC;FMTTYPE=text/html:Event: Debate: Social Media\, Free Speech\, an
 d Section 230\n\n Location:    \n\n
DTSTAMP:20221225T045638Z
END:VEVENT
END:VCALENDAR