BEGIN:VCALENDAR
VERSION:2.0
PRODID:https://fedsoc.org/events/past-is-prologue-a-discussion-of-the-first
 -amendment-and-a-revised-proposal-for-rule-8-4
BEGIN:VEVENT
UID:63a81dfa6f0f0
DTSTART:20210219T173000Z
SEQUENCE:0
TRANSP:OPAQUE
DTEND:20210219T183000Z
LOCATION:   
SUMMARY:Past is Prologue: A Discussion of the First Amendment and a Revised
  Proposal for Rule 8.4
CLASS:PUBLIC
X-ALT-DESC;FMTTYPE=text/html:Event: Past is Prologue: A Discussion of the F
 irst Amendment and a Revised Proposal for Rule 8.4\n\n Location:    \n\n
DTSTAMP:20221225T045506Z
END:VEVENT
END:VCALENDAR