BEGIN:VCALENDAR
VERSION:2.0
PRODID:https://fedsoc.org/events/feddie-night-fusionism-i-love-you-you-re-p
 erfect-now-change
BEGIN:VEVENT
UID:63a83b7ddfa63
DTSTART:20210213T010041Z
SEQUENCE:0
TRANSP:OPAQUE
DTEND:20210213T023000Z
LOCATION:   
SUMMARY:Feddie Night Fusionism: I Love You\, You're Perfect\, Now Change!
CLASS:PUBLIC
X-ALT-DESC;FMTTYPE=text/html:Event: Feddie Night Fusionism: I Love You\, Yo
 u're Perfect\, Now Change!\n\n Location:    \n\n
DTSTAMP:20221225T070101Z
END:VEVENT
END:VCALENDAR