BEGIN:VCALENDAR
VERSION:2.0
PRODID:https://fedsoc.org/events/courthouse-steps-oral-argument-webinar-fcc
 -v-prometheus-radio-project
BEGIN:VEVENT
UID:611cbb544ffd8
DTSTART:20210125T170000Z
SEQUENCE:0
TRANSP:OPAQUE
DTEND:20210125T180000Z
LOCATION:   
SUMMARY:Courthouse Steps Oral Argument Webinar: FCC v. Prometheus Radio Pro
 ject
CLASS:PUBLIC
X-ALT-DESC;FMTTYPE=text/html:Event: Courthouse Steps Oral Argument Webinar:
  FCC v. Prometheus Radio Project\n\n Location:    \n\n
DTSTAMP:20210818T034836Z
END:VEVENT
END:VCALENDAR