BEGIN:VCALENDAR
VERSION:2.0
PRODID:https://fedsoc.org/events/an-interview-with-former-wisconsin-supreme
 -court-justice-daniel-kelly
BEGIN:VEVENT
UID:63a9e1c8252fd
DTSTART:20201117T183040Z
SEQUENCE:0
TRANSP:OPAQUE
DTEND:20201117T193045Z
LOCATION:   
SUMMARY:An Interview with Former Wisconsin Supreme Court Justice Daniel Kel
 ly
CLASS:PUBLIC
X-ALT-DESC;FMTTYPE=text/html:Event: An Interview with Former Wisconsin Supr
 eme Court Justice Daniel Kelly\n\n Location:    \n\n
DTSTAMP:20221226T130248Z
END:VEVENT
END:VCALENDAR