BEGIN:VCALENDAR
VERSION:2.0
PRODID:https://fedsoc.org/events/october-2020-dc-lunch-with-michael-barone
BEGIN:VEVENT
UID:63a83c1b5ef29
DTSTART:20201023T160042Z
SEQUENCE:0
TRANSP:OPAQUE
DTEND:20201023T173050Z
LOCATION:   
SUMMARY:October 2020 DC Lunch with Michael Barone
CLASS:PUBLIC
X-ALT-DESC;FMTTYPE=text/html:Event: October 2020 DC Lunch with Michael Baro
 ne\n\n Location:    \n\n
DTSTAMP:20221225T070339Z
END:VEVENT
END:VCALENDAR