BEGIN:VCALENDAR
VERSION:2.0
PRODID:https://fedsoc.org/events/keynote-address-reception
BEGIN:VEVENT
UID:63a820b974f02
DTSTART:20200903T210012Z
SEQUENCE:0
TRANSP:OPAQUE
DTEND:20200903T233023Z
LOCATION:2810 Gold Rd Pewaukee WI 53072
SUMMARY:Keynote Address & Reception
CLASS:PUBLIC
X-ALT-DESC;FMTTYPE=text/html:Event: Keynote Address & Reception\n\n Locatio
 n: 2810 Gold Rd Pewaukee WI 53072\n\n
DTSTAMP:20221225T050649Z
END:VEVENT
END:VCALENDAR