BEGIN:VCALENDAR
VERSION:2.0
PRODID:https://fedsoc.org/events/nationwide-injunctions-panel-1
BEGIN:VEVENT
UID:63a820882c40e
DTSTART:20200902T173040Z
SEQUENCE:0
TRANSP:OPAQUE
DTEND:20200902T183048Z
LOCATION:  WI 
SUMMARY:Nationwide Injunctions Panel
CLASS:PUBLIC
X-ALT-DESC;FMTTYPE=text/html:Event: Nationwide Injunctions Panel\n\n Locati
 on:   WI \n\n
DTSTAMP:20221225T050600Z
END:VEVENT
END:VCALENDAR