BEGIN:VCALENDAR
VERSION:2.0
PRODID:https://fedsoc.org/events/wisconsin-election-law-panel-1
BEGIN:VEVENT
UID:63a8208306f44
DTSTART:20200901T173039Z
SEQUENCE:0
TRANSP:OPAQUE
DTEND:20200901T183055Z
LOCATION:  WI 
SUMMARY:Wisconsin Election Law Panel
CLASS:PUBLIC
X-ALT-DESC;FMTTYPE=text/html:Event: Wisconsin Election Law Panel\n\n Locati
 on:   WI \n\n
DTSTAMP:20221225T050555Z
END:VEVENT
END:VCALENDAR