BEGIN:VCALENDAR
VERSION:2.0
PRODID:https://fedsoc.org/events/feddie-night-fights-the-federalist-anti-fe
 deralist-debate
BEGIN:VEVENT
UID:63a83c0f267e8
DTSTART:20200926T000000Z
SEQUENCE:0
TRANSP:OPAQUE
DTEND:20200926T020000Z
LOCATION:   
SUMMARY:Feddie Night Fights: The Federalist/Anti-Federalist Debate
CLASS:PUBLIC
X-ALT-DESC;FMTTYPE=text/html:Event: Feddie Night Fights: The Federalist/Ant
 i-Federalist Debate\n\n Location:    \n\n
DTSTAMP:20221225T070327Z
END:VEVENT
END:VCALENDAR