BEGIN:VCALENDAR
VERSION:2.0
PRODID:https://fedsoc.org/events/a-conversation-with-senator-marsha-blackbu
 rn
BEGIN:VEVENT
UID:63a83c8703f8c
DTSTART:20200722T220000Z
SEQUENCE:0
TRANSP:OPAQUE
DTEND:20200722T230000Z
LOCATION:   
SUMMARY:A Conversation with Senator Marsha Blackburn
CLASS:PUBLIC
X-ALT-DESC;FMTTYPE=text/html:Event: A Conversation with Senator Marsha Blac
 kburn\n\n Location:    \n\n
DTSTAMP:20221225T070527Z
END:VEVENT
END:VCALENDAR