BEGIN:VCALENDAR
VERSION:2.0
PRODID:https://fedsoc.org/events/statutory-and-case-overview-part-2
BEGIN:VEVENT
UID:63a80303c789a
DTSTART:20080314T174515Z
SEQUENCE:0
TRANSP:OPAQUE
DTEND:20080314T191515Z
LOCATION:120 F St NW Washington DC 20001
SUMMARY:Statutory and Case Overview\, Part 2
CLASS:PUBLIC
X-ALT-DESC;FMTTYPE=text/html:Event: Statutory and Case Overview\, Part 2\n\
 n Location: 120 F St NW Washington DC 20001\n\n
DTSTAMP:20221225T030003Z
END:VEVENT
END:VCALENDAR