BEGIN:VCALENDAR
VERSION:2.0
PRODID:https://fedsoc.org/events/statutory-and-case-overview-part-1
BEGIN:VEVENT
UID:63a80309c3091
DTSTART:20080314T163039Z
SEQUENCE:0
TRANSP:OPAQUE
DTEND:20080314T173039Z
LOCATION:120 F St NW Washington DC 20001
SUMMARY:Statutory and Case Overview\, Part 1
CLASS:PUBLIC
X-ALT-DESC;FMTTYPE=text/html:Event: Statutory and Case Overview\, Part 1\n\
 n Location: 120 F St NW Washington DC 20001\n\n
DTSTAMP:20221225T030009Z
END:VEVENT
END:VCALENDAR